BEGIN:VCALENDAR
VERSION:2.0
PRODID:-//time.now/holidays//NONSGML v1.0//EN
BEGIN:VEVENT
UID:8982f9be-7f3f-4d43-8fd7-ad567dc9097c
DTSTAMP:20260420T230903Z
DTSTART;VALUE=DATE:20340102
SUMMARY:New Year's Day (observed) (Trinité-et-Tobago)
END:VEVENT
END:VCALENDAR