BEGIN:VCALENDAR
VERSION:2.0
PRODID:-//time.now/holidays//NONSGML v1.0//EN
BEGIN:VEVENT
UID:8de701c8-de39-41a3-a2ea-35cf8431032d
DTSTAMP:20260422T115513Z
DTSTART;VALUE=DATE:20260619
SUMMARY:Labor Day (Trinité-et-Tobago)
END:VEVENT
END:VCALENDAR