BEGIN:VCALENDAR
VERSION:2.0
PRODID:-//time.now/holidays//NONSGML v1.0//EN
BEGIN:VEVENT
UID:8c37185c-bfde-4c9e-9751-b2ce2720be81
DTSTAMP:20260422T133128Z
DTSTART;VALUE=DATE:20260403
SUMMARY:Good Friday (Trinité-et-Tobago)
END:VEVENT
END:VCALENDAR