BEGIN:VCALENDAR
VERSION:2.0
PRODID:-//time.now/holidays//NONSGML v1.0//EN
BEGIN:VEVENT
UID:dc5fd50d-6645-4bef-84af-606195317d6b
DTSTAMP:20260422T205842Z
DTSTART;VALUE=DATE:20271227
SUMMARY:Boxing Day (observed) (Trinité-et-Tobago)
END:VEVENT
END:VCALENDAR