BEGIN:VCALENDAR
VERSION:2.0
PRODID:-//time.now/holidays//NONSGML v1.0//EN
BEGIN:VEVENT
UID:6d35e66e-6c23-41a2-a1ab-017a281a0c99
DTSTAMP:20260419T180647Z
DTSTART;VALUE=DATE:20260406
SUMMARY:Easter Monday (Tonga)
END:VEVENT
END:VCALENDAR