BEGIN:VCALENDAR
VERSION:2.0
PRODID:-//time.now/holidays//NONSGML v1.0//EN
BEGIN:VEVENT
UID:52cd7f5a-abc5-4449-a091-ab93775f0d02
DTSTAMP:20260420T010056Z
DTSTART;VALUE=DATE:20261102
SUMMARY:Constitution Day (observed) (Tonga)
END:VEVENT
END:VCALENDAR