BEGIN:VCALENDAR
VERSION:2.0
PRODID:-//time.now/holidays//NONSGML v1.0//EN
BEGIN:VEVENT
UID:99daca46-f355-499b-9970-27158ba5a526
DTSTAMP:20260420T083043Z
DTSTART;VALUE=DATE:20260525
SUMMARY:Whit Monday (Togo)
END:VEVENT
END:VCALENDAR