BEGIN:VCALENDAR
VERSION:2.0
PRODID:-//time.now/holidays//NONSGML v1.0//EN
BEGIN:VEVENT
UID:b645cb46-313b-4618-a080-bbdf0df3f2ff
DTSTAMP:20260420T072621Z
DTSTART;VALUE=DATE:20260501
SUMMARY:Labor Day (Togo)
END:VEVENT
END:VCALENDAR