BEGIN:VCALENDAR
VERSION:2.0
PRODID:-//time.now/holidays//NONSGML v1.0//EN
BEGIN:VEVENT
UID:92055177-4cd9-45e3-8563-2c6e4c4e99a9
DTSTAMP:20260420T072026Z
DTSTART;VALUE=DATE:20260427
SUMMARY:Independence Day (Togo)
END:VEVENT
END:VCALENDAR