BEGIN:VCALENDAR
VERSION:2.0
PRODID:-//time.now/holidays//NONSGML v1.0//EN
BEGIN:VEVENT
UID:2e1c3c82-240c-49a6-8e93-d865197e4ec0
DTSTAMP:20260422T090214Z
DTSTART;VALUE=DATE:20260218
SUMMARY:First Day of Ramadan (estimated) (Togo)
END:VEVENT
END:VCALENDAR