BEGIN:VCALENDAR
VERSION:2.0
PRODID:-//time.now/holidays//NONSGML v1.0//EN
BEGIN:VEVENT
UID:0c3396c2-7038-4476-bdae-88f64511bdb9
DTSTAMP:20260420T125830Z
DTSTART;VALUE=DATE:20260514
SUMMARY:Ascension Day (Togo)
END:VEVENT
END:VCALENDAR