BEGIN:VCALENDAR
VERSION:2.0
PRODID:-//time.now/holidays//NONSGML v1.0//EN
BEGIN:VEVENT
UID:63a73698-11f1-4d01-8645-190b6e8e9ee3
DTSTAMP:20260420T195958Z
DTSTART;VALUE=DATE:20260830
SUMMARY:Popular Consultation Day (Timor-Leste)
END:VEVENT
END:VCALENDAR