BEGIN:VCALENDAR
VERSION:2.0
PRODID:-//time.now/holidays//NONSGML v1.0//EN
BEGIN:VEVENT
UID:802b3c8b-ea3c-4af5-8444-b5a475f57b9b
DTSTAMP:20260420T184449Z
DTSTART;VALUE=DATE:20250331
SUMMARY:Eid al-Fitr (Timor-Leste)
END:VEVENT
END:VCALENDAR