BEGIN:VCALENDAR
VERSION:2.0
PRODID:-//time.now/holidays//NONSGML v1.0//EN
BEGIN:VEVENT
UID:bcce40bf-fbae-4858-8fec-7d82dd637864
DTSTAMP:20260420T124150Z
DTSTART;VALUE=DATE:20260604
SUMMARY:Corpus Christi (Timor-Leste)
END:VEVENT
END:VCALENDAR