BEGIN:VCALENDAR
VERSION:2.0
PRODID:-//time.now/holidays//NONSGML v1.0//EN
BEGIN:VEVENT
UID:31c8269c-9390-44b2-99be-45efca80735b
DTSTAMP:20260420T180117Z
DTSTART;VALUE=DATE:20261102
SUMMARY:All Souls' Day (Timor-Leste)
END:VEVENT
END:VCALENDAR