BEGIN:VCALENDAR
VERSION:2.0
PRODID:-//time.now/holidays//NONSGML v1.0//EN
BEGIN:VEVENT
UID:4a773e00-8fa3-4613-bf66-50212e13ae43
DTSTAMP:20260422T090848Z
DTSTART;VALUE=DATE:20280103
SUMMARY:New Year's Day (in lieu) (Thaïlande)
END:VEVENT
END:VCALENDAR