BEGIN:VCALENDAR
VERSION:2.0
PRODID:-//time.now/holidays//NONSGML v1.0//EN
BEGIN:VEVENT
UID:1aeaadcb-808e-44d8-95fd-0e8a675fa735
DTSTAMP:20260420T032525Z
DTSTART;VALUE=DATE:20260303
SUMMARY:Makha Bucha (Thaïlande)
END:VEVENT
END:VCALENDAR