BEGIN:VCALENDAR
VERSION:2.0
PRODID:-//time.now/holidays//NONSGML v1.0//EN
BEGIN:VEVENT
UID:2d15462a-7c91-4195-925c-2a75965a5793
DTSTAMP:20260422T091912Z
DTSTART;VALUE=DATE:20230603
SUMMARY:HM Queen Suthida's Birthday; Visakha Bucha (Thaïlande)
END:VEVENT
END:VCALENDAR