BEGIN:VCALENDAR
VERSION:2.0
PRODID:-//time.now/holidays//NONSGML v1.0//EN
BEGIN:VEVENT
UID:7366a9cf-d086-4645-b835-c5ffeae1600c
DTSTAMP:20260420T230909Z
DTSTART;VALUE=DATE:20280605
SUMMARY:HM Queen Suthida's Birthday (in lieu) (Thaïlande)
END:VEVENT
END:VCALENDAR