BEGIN:VCALENDAR
VERSION:2.0
PRODID:-//time.now/holidays//NONSGML v1.0//EN
BEGIN:VEVENT
UID:d5c0c7f4-389c-4b09-b6eb-0d2d41c10a54
DTSTAMP:20260421T012557Z
DTSTART;VALUE=DATE:20261207
SUMMARY:HM King Bhumibol Adulyadej the Great's Birthday (in lieu); National Day (in lieu); National Father's Day (in lieu) (Thaïlande)
END:VEVENT
END:VCALENDAR