BEGIN:VCALENDAR
VERSION:2.0
PRODID:-//time.now/holidays//NONSGML v1.0//EN
BEGIN:VEVENT
UID:886f0aa4-21ae-4043-a209-a3aa0797fa4a
DTSTAMP:20260422T105206Z
DTSTART;VALUE=DATE:20291015
SUMMARY:HM King Bhumibol Adulyadej Memorial Day (in lieu) (Thaïlande)
END:VEVENT
END:VCALENDAR