BEGIN:VCALENDAR
VERSION:2.0
PRODID:-//time.now/holidays//NONSGML v1.0//EN
BEGIN:VEVENT
UID:d37023e2-945b-41b0-8f13-8fba16898798
DTSTAMP:20260422T092157Z
DTSTART;VALUE=DATE:20300408
SUMMARY:Chakri Memorial Day (in lieu) (Thaïlande)
END:VEVENT
END:VCALENDAR