BEGIN:VCALENDAR
VERSION:2.0
PRODID:-//time.now/holidays//NONSGML v1.0//EN
BEGIN:VEVENT
UID:57d83a90-6935-4a8e-88a3-c603fae90bf9
DTSTAMP:20260422T085833Z
DTSTART;VALUE=DATE:20260112
SUMMARY:Zanzibar Revolution Day (Tanzanie)
END:VEVENT
END:VCALENDAR