BEGIN:VCALENDAR
VERSION:2.0
PRODID:-//time.now/holidays//NONSGML v1.0//EN
BEGIN:VEVENT
UID:75d469a6-a69b-4cb3-9f1c-5a1672765fa6
DTSTAMP:20260422T105434Z
DTSTART;VALUE=DATE:20261014
SUMMARY:The Mwalimu Nyerere Day (Tanzanie)
END:VEVENT
END:VCALENDAR