BEGIN:VCALENDAR
VERSION:2.0
PRODID:-//time.now/holidays//NONSGML v1.0//EN
BEGIN:VEVENT
UID:18b2379c-bf79-47e1-900a-0b2c040d49f6
DTSTAMP:20260420T190716Z
DTSTART;VALUE=DATE:20230928
SUMMARY:Prophet's Birthday (Tanzanie)
END:VEVENT
END:VCALENDAR