BEGIN:VCALENDAR
VERSION:2.0
PRODID:-//time.now/holidays//NONSGML v1.0//EN
BEGIN:VEVENT
UID:7c886f53-cb6f-4791-9124-7c59c4c8d103
DTSTAMP:20260422T090239Z
DTSTART;VALUE=DATE:20220823
SUMMARY:National Population and Housing Census Day (Tanzanie)
END:VEVENT
END:VCALENDAR