BEGIN:VCALENDAR
VERSION:2.0
PRODID:-//time.now/holidays//NONSGML v1.0//EN
BEGIN:VEVENT
UID:333e1313-39a1-47d2-8d66-e71fbccc13a9
DTSTAMP:20260420T095356Z
DTSTART;VALUE=DATE:20240410
SUMMARY:Eid al-Fitr (Tanzanie)
END:VEVENT
END:VCALENDAR