BEGIN:VCALENDAR
VERSION:2.0
PRODID:-//time.now/holidays//NONSGML v1.0//EN
BEGIN:VEVENT
UID:8360cf0e-710e-4eaa-a259-e00c6e12bbbb
DTSTAMP:20260420T042921Z
DTSTART;VALUE=DATE:20260406
SUMMARY:Easter Monday (Tanzanie)
END:VEVENT
END:VCALENDAR