BEGIN:VCALENDAR
VERSION:2.0
PRODID:-//time.now/holidays//NONSGML v1.0//EN
BEGIN:VEVENT
UID:5daffb1c-d2ce-407f-a749-07d146a27f60
DTSTAMP:20260420T183225Z
DTSTART;VALUE=DATE:20261225
SUMMARY:Christmas Day (Tanzanie)
END:VEVENT
END:VCALENDAR