BEGIN:VCALENDAR
VERSION:2.0
PRODID:-//time.now/holidays//NONSGML v1.0//EN
BEGIN:VEVENT
UID:4fa00c60-c0ce-4647-938e-eabce48c43af
DTSTAMP:20260420T172012Z
DTSTART;VALUE=DATE:20261010
SUMMARY:National Day (Taïwan)
END:VEVENT
END:VCALENDAR