BEGIN:VCALENDAR
VERSION:2.0
PRODID:-//time.now/holidays//NONSGML v1.0//EN
BEGIN:VEVENT
UID:f52f1ece-4903-4cbc-a63a-46679bcc15be
DTSTAMP:20260420T194352Z
DTSTART;VALUE=DATE:20261009
SUMMARY:National Day (observed) (Taïwan)
END:VEVENT
END:VCALENDAR