BEGIN:VCALENDAR
VERSION:2.0
PRODID:-//time.now/holidays//NONSGML v1.0//EN
BEGIN:VEVENT
UID:2b0f0df1-3540-4a60-9955-6afa12230f55
DTSTAMP:20260422T091740Z
DTSTART;VALUE=DATE:20290921
SUMMARY:Mid-Autumn Festival (observed) (Taïwan)
END:VEVENT
END:VCALENDAR