BEGIN:VCALENDAR
VERSION:2.0
PRODID:-//time.now/holidays//NONSGML v1.0//EN
BEGIN:VEVENT
UID:4cdc8ba5-c36d-457c-b6a0-323d72b99645
DTSTAMP:20260422T105159Z
DTSTART;VALUE=DATE:20260101
SUMMARY:Founding Day of the Republic of China (Taïwan)
END:VEVENT
END:VCALENDAR