BEGIN:VCALENDAR
VERSION:2.0
PRODID:-//time.now/holidays//NONSGML v1.0//EN
BEGIN:VEVENT
UID:c12a758c-c7ed-495a-b348-d66b49162522
DTSTAMP:20260422T150213Z
DTSTART;VALUE=DATE:20270209
SUMMARY:Chinese New Year (observed) (Taïwan)
END:VEVENT
END:VCALENDAR