BEGIN:VCALENDAR
VERSION:2.0
PRODID:-//time.now/holidays//NONSGML v1.0//EN
BEGIN:VEVENT
UID:e4bcdd6e-359e-48a7-8e2a-c8b654c2d881
DTSTAMP:20260420T110055Z
DTSTART;VALUE=DATE:20260404
SUMMARY:Children's Day (Taïwan)
END:VEVENT
END:VCALENDAR