BEGIN:VCALENDAR
VERSION:2.0
PRODID:-//time.now/holidays//NONSGML v1.0//EN
BEGIN:VEVENT
UID:fe1b758e-0712-403f-90b9-69140ad8c785
DTSTAMP:20260422T151454Z
DTSTART;VALUE=DATE:20280404
SUMMARY:Children's Day; Tomb-Sweeping Day (Taïwan)
END:VEVENT
END:VCALENDAR