BEGIN:VCALENDAR
VERSION:2.0
PRODID:-//time.now/holidays//NONSGML v1.0//EN
BEGIN:VEVENT
UID:797fb458-92bc-4f5d-a4a3-316051defd84
DTSTAMP:20260422T091328Z
DTSTART;VALUE=DATE:20260925
SUMMARY:Saint Nicholas of Flüe (Suisse)
END:VEVENT
END:VCALENDAR