BEGIN:VCALENDAR
VERSION:2.0
PRODID:-//time.now/holidays//NONSGML v1.0//EN
BEGIN:VEVENT
UID:6a0230d2-ab02-4523-afaa-fe0909893a55
DTSTAMP:20260420T190921Z
DTSTART;VALUE=DATE:20260319
SUMMARY:Saint Joseph's Day (Suisse)
END:VEVENT
END:VCALENDAR