BEGIN:VCALENDAR
VERSION:2.0
PRODID:-//time.now/holidays//NONSGML v1.0//EN
BEGIN:VEVENT
UID:23bc8745-1dad-4176-8b2c-0c0ccaa60202
DTSTAMP:20260420T184949Z
DTSTART;VALUE=DATE:20261231
SUMMARY:Restoration Day (Suisse)
END:VEVENT
END:VCALENDAR