BEGIN:VCALENDAR
VERSION:2.0
PRODID:-//time.now/holidays//NONSGML v1.0//EN
BEGIN:VEVENT
UID:170ba7fa-a6e0-4925-8443-9bc1b7e562d5
DTSTAMP:20260420T163727Z
DTSTART;VALUE=DATE:20260301
SUMMARY:Republic Day (Suisse)
END:VEVENT
END:VCALENDAR