BEGIN:VCALENDAR
VERSION:2.0
PRODID:-//time.now/holidays//NONSGML v1.0//EN
BEGIN:VEVENT
UID:2a08573b-64e0-4852-a5ef-4702076c3307
DTSTAMP:20260420T194848Z
DTSTART;VALUE=DATE:20260801
SUMMARY:National Day (Suisse)
END:VEVENT
END:VCALENDAR