BEGIN:VCALENDAR
VERSION:2.0
PRODID:-//time.now/holidays//NONSGML v1.0//EN
BEGIN:VEVENT
UID:befc4de2-fc95-48c1-beca-dfad9dc85661
DTSTAMP:20260420T134825Z
DTSTART;VALUE=DATE:20260623
SUMMARY:Independence Day (Suisse)
END:VEVENT
END:VCALENDAR