BEGIN:VCALENDAR
VERSION:2.0
PRODID:-//time.now/holidays//NONSGML v1.0//EN
BEGIN:VEVENT
UID:0503e617-bb91-4e3b-affa-e4caf332a724
DTSTAMP:20260420T094630Z
DTSTART;VALUE=DATE:20260910
SUMMARY:Genevan Fast (Suisse)
END:VEVENT
END:VCALENDAR