BEGIN:VCALENDAR
VERSION:2.0
PRODID:-//time.now/holidays//NONSGML v1.0//EN
BEGIN:VEVENT
UID:5ffb9930-dbf7-4c5e-ab5e-2e6fd289920c
DTSTAMP:20260420T125605Z
DTSTART;VALUE=DATE:20260815
SUMMARY:Assumption Day (Suisse)
END:VEVENT
END:VCALENDAR