BEGIN:VCALENDAR
VERSION:2.0
PRODID:-//time.now/holidays//NONSGML v1.0//EN
BEGIN:VEVENT
UID:421d53a5-7a24-4c02-94dd-be0b54a91df8
DTSTAMP:20260420T202241Z
DTSTART;VALUE=DATE:20260524
SUMMARY:Sunday; Whit Sunday (Suède)
END:VEVENT
END:VCALENDAR