BEGIN:VCALENDAR
VERSION:2.0
PRODID:-//time.now/holidays//NONSGML v1.0//EN
BEGIN:VEVENT
UID:1e7eaca6-0720-4396-bee1-b76bc408ef2f
DTSTAMP:20260420T205009Z
DTSTART;VALUE=DATE:20331225
SUMMARY:Christmas Day; Sunday (Suède)
END:VEVENT
END:VCALENDAR