BEGIN:VCALENDAR
VERSION:2.0
PRODID:-//time.now/holidays//NONSGML v1.0//EN
BEGIN:VEVENT
UID:20eacaac-6d95-4286-81c5-2bd2049bc275
DTSTAMP:20260422T134444Z
DTSTART;VALUE=DATE:20260101
SUMMARY:New Year's Day (Svalbard et Jan Mayen)
END:VEVENT
END:VCALENDAR