BEGIN:VCALENDAR
VERSION:2.0
PRODID:-//time.now/holidays//NONSGML v1.0//EN
BEGIN:VEVENT
UID:dfa8cb66-f5f2-40a3-90d8-19f20b2f1076
DTSTAMP:20260420T120636Z
DTSTART;VALUE=DATE:20261125
SUMMARY:Independence Day (Suriname)
END:VEVENT
END:VCALENDAR