BEGIN:VCALENDAR
VERSION:2.0
PRODID:-//time.now/holidays//NONSGML v1.0//EN
BEGIN:VEVENT
UID:57202107-2071-40fd-a2d0-c6305b6622e7
DTSTAMP:20260420T053150Z
DTSTART;VALUE=DATE:20260406
SUMMARY:Easter Monday (Suriname)
END:VEVENT
END:VCALENDAR