BEGIN:VCALENDAR
VERSION:2.0
PRODID:-//time.now/holidays//NONSGML v1.0//EN
BEGIN:VEVENT
UID:3fe5f1e5-3adf-46d4-846a-5b4134792828
DTSTAMP:20260421T005745Z
DTSTART;VALUE=DATE:20260701
SUMMARY:Day of Freedoms (Suriname)
END:VEVENT
END:VCALENDAR